Workbook

Sheet Excel U
A1: Additional Resources
A2: Excel University
A4: Excel University
B5: Learn Excel. Work Faster.
A7: Free Resources
B8: We have tons of free resources for helping you learn Excel:
B9: https://www.excel-university.com/learn-excel-free
A11: Paid
B12: We also offer formal training programs:
B13: https://store.excel-university.com

Sheet Exercise 1
A1: Exercise 1
A2: Excel University
A4: Exercise | B4: Update manually by grouping desired sheets
B5: Change Apr-Dec sheets

Sheet Exercise 2
A1: Exercise 2
A2: Excel University
A4: Exercise | B4: Create formula that looks back one sheet
B5: Change Apr-Dec by changing April only

Sheet Exercise 3
A1: Exercise 3
A2: Excel University
A4: Exercise | B4: Enable adding names by adding formulas under range
B5: Use custom cell format to hide 0

Sheet Jan
A1: Jan
A2: Excel University
A4: Data
B6: Volunteer
B7: George
B8: Tina
B9: Timmy
B10: Francis
B11: Mary
B12: Benjamin
B13: Phil
B14: Kara
B15: Scott

Sheet Feb
A1: Feb
A2: Excel University
A4: Data
B6: Volunteer
B7: =Jan!B7 -> George
B8: =Jan!B8 -> Tina
B9: =Jan!B9 -> Timmy
B10: =Jan!B10 -> Francis
B11: =Jan!B11 -> Mary
B12: =Jan!B12 -> Benjamin
B13: =Jan!B13 -> Phil
B14: =Jan!B14 -> Kara
B15: =Jan!B15 -> Scott
B16: =Jan!B16 -> 0
B17: =Jan!B17 -> 0
B18: =Jan!B18 -> 0
B19: =Jan!B19 -> 0

Sheet Mar
A1: Mar
A2: Excel University
A4: Data
B6: Volunteer
B7: =Feb!B7 -> George
B8: =Feb!B8 -> Tina
B9: =Feb!B9 -> Timmy
B10: =Feb!B10 -> Francis
B11: =Feb!B11 -> Mary
B12: =Feb!B12 -> Benjamin
B13: =Feb!B13 -> Phil
B14: =Feb!B14 -> Kara
B15: =Feb!B15 -> Scott
B16: =Feb!B16 -> 0
B17: =Feb!B17 -> 0
B18: =Feb!B18 -> 0
B19: =Feb!B19 -> 0

Sheet Apr
A1: Apr
A2: Excel University
A4: Data
B6: Volunteer
B7: =Mar!B7 -> George
B8: =Mar!B8 -> Tina
B9: =Mar!B9 -> Timmy
B10: =Mar!B10 -> Francis
B11: =Mar!B11 -> Mary
B12: =Mar!B12 -> Benjamin
B13: =Mar!B13 -> Phil
B14: =Mar!B14 -> Kara
B15: =Mar!B15 -> Scott
B16: =Mar!B16 -> 0
B17: =Mar!B17 -> 0
B18: =Mar!B18 -> 0
B19: =Mar!B19 -> 0

Sheet May
A1: May
A2: Excel University
A4: Data
B6: Volunteer
B7: =Apr!B7 -> George
B8: =Apr!B8 -> Tina
B9: =Apr!B9 -> Timmy
B10: =Apr!B10 -> Francis
B11: =Apr!B11 -> Mary
B12: =Apr!B12 -> Benjamin
B13: =Apr!B13 -> Phil
B14: =Apr!B14 -> Kara
B15: =Apr!B15 -> Scott
B16: =Apr!B16 -> 0
B17: =Apr!B17 -> 0
B18: =Apr!B18 -> 0
B19: =Apr!B19 -> 0

Sheet Jun
A1: Jun
A2: Excel University
A4: Data
B6: Volunteer
B7: =May!B7 -> George
B8: =May!B8 -> Tina
B9: =May!B9 -> Timmy
B10: =May!B10 -> Francis
B11: =May!B11 -> Mary
B12: =May!B12 -> Benjamin
B13: =May!B13 -> Phil
B14: =May!B14 -> Kara
B15: =May!B15 -> Scott
B16: =May!B16 -> 0
B17: =May!B17 -> 0
B18: =May!B18 -> 0
B19: =May!B19 -> 0

Sheet Jul
A1: Jul
A2: Excel University
A4: Data
B6: Volunteer
B7: =Jun!B7 -> George
B8: =Jun!B8 -> Tina
B9: =Jun!B9 -> Timmy
B10: =Jun!B10 -> Francis
B11: =Jun!B11 -> Mary
B12: =Jun!B12 -> Benjamin
B13: =Jun!B13 -> Phil
B14: =Jun!B14 -> Kara
B15: =Jun!B15 -> Scott
B16: =Jun!B16 -> 0
B17: =Jun!B17 -> 0
B18: =Jun!B18 -> 0
B19: =Jun!B19 -> 0

Sheet Aug
A1: Aug
A2: Excel University
A4: Data
B6: Volunteer
B7: =Jul!B7 -> George
B8: =Jul!B8 -> Tina
B9: =Jul!B9 -> Timmy
B10: =Jul!B10 -> Francis
B11: =Jul!B11 -> Mary
B12: =Jul!B12 -> Benjamin
B13: =Jul!B13 -> Phil
B14: =Jul!B14 -> Kara
B15: =Jul!B15 -> Scott
B16: =Jul!B16 -> 0
B17: =Jul!B17 -> 0
B18: =Jul!B18 -> 0
B19: =Jul!B19 -> 0

Sheet Sep
A1: Sep
A2: Excel University
A4: Data
B6: Volunteer
B7: =Aug!B7 -> George
B8: =Aug!B8 -> Tina
B9: =Aug!B9 -> Timmy
B10: =Aug!B10 -> Francis
B11: =Aug!B11 -> Mary
B12: =Aug!B12 -> Benjamin
B13: =Aug!B13 -> Phil
B14: =Aug!B14 -> Kara
B15: =Aug!B15 -> Scott
B16: =Aug!B16 -> 0
B17: =Aug!B17 -> 0
B18: =Aug!B18 -> 0
B19: =Aug!B19 -> 0

Sheet Oct
A1: Oct
A2: Excel University
A4: Data
B6: Volunteer
B7: =Sep!B7 -> George
B8: =Sep!B8 -> Tina
B9: =Sep!B9 -> Timmy
B10: =Sep!B10 -> Francis
B11: =Sep!B11 -> Mary
B12: =Sep!B12 -> Benjamin
B13: =Sep!B13 -> Phil
B14: =Sep!B14 -> Kara
B15: =Sep!B15 -> Scott
B16: =Sep!B16 -> 0
B17: =Sep!B17 -> 0
B18: =Sep!B18 -> 0
B19: =Sep!B19 -> 0

Sheet Nov
A1: Nov
A2: Excel University
A4: Data
B6: Volunteer
B7: =Oct!B7 -> George
B8: =Oct!B8 -> Tina
B9: =Oct!B9 -> Timmy
B10: =Oct!B10 -> Francis
B11: =Oct!B11 -> Mary
B12: =Oct!B12 -> Benjamin
B13: =Oct!B13 -> Phil
B14: =Oct!B14 -> Kara
B15: =Oct!B15 -> Scott
B16: =Oct!B16 -> 0
B17: =Oct!B17 -> 0
B18: =Oct!B18 -> 0
B19: =Oct!B19 -> 0

Sheet Dec
A1: Dec
A2: Excel University
A4: Data
B6: Volunteer
B7: =Nov!B7 -> George
B8: =Nov!B8 -> Tina
B9: =Nov!B9 -> Timmy
B10: =Nov!B10 -> Francis
B11: =Nov!B11 -> Mary
B12: =Nov!B12 -> Benjamin
B13: =Nov!B13 -> Phil
B14: =Nov!B14 -> Kara
B15: =Nov!B15 -> Scott
B16: =Nov!B16 -> 0
B17: =Nov!B17 -> 0
B18: =Nov!B18 -> 0
B19: =Nov!B19 -> 0
